BEGIN:VCALENDAR
VERSION:2.0
PRODID:-//AASP/NJ - ECPv6.15.20//NONSGML v1.0//EN
CALSCALE:GREGORIAN
METHOD:PUBLISH
X-WR-CALNAME:AASP/NJ
X-ORIGINAL-URL:https://aaspnj.org
X-WR-CALDESC:Events for AASP/NJ
REFRESH-INTERVAL;VALUE=DURATION:PT1H
X-Robots-Tag:noindex
X-PUBLISHED-TTL:PT1H
BEGIN:VTIMEZONE
TZID:America/Detroit
BEGIN:DAYLIGHT
TZOFFSETFROM:-0500
TZOFFSETTO:-0400
TZNAME:EDT
DTSTART:20240310T070000
END:DAYLIGHT
BEGIN:STANDARD
TZOFFSETFROM:-0400
TZOFFSETTO:-0500
TZNAME:EST
DTSTART:20241103T060000
END:STANDARD
BEGIN:DAYLIGHT
TZOFFSETFROM:-0500
TZOFFSETTO:-0400
TZNAME:EDT
DTSTART:20250309T070000
END:DAYLIGHT
BEGIN:STANDARD
TZOFFSETFROM:-0400
TZOFFSETTO:-0500
TZNAME:EST
DTSTART:20251102T060000
END:STANDARD
BEGIN:DAYLIGHT
TZOFFSETFROM:-0500
TZOFFSETTO:-0400
TZNAME:EDT
DTSTART:20260308T070000
END:DAYLIGHT
BEGIN:STANDARD
TZOFFSETFROM:-0400
TZOFFSETTO:-0500
TZNAME:EST
DTSTART:20261101T060000
END:STANDARD
END:VTIMEZONE
BEGIN:VEVENT
DTSTART;TZID=America/Detroit:20251022T183000
DTEND;TZID=America/Detroit:20251022T213000
DTSTAMP:20260421T120920
CREATED:20250930T213916Z
LAST-MODIFIED:20250930T213933Z
UID:6284-1761157800-1761168600@aaspnj.org
SUMMARY:AASP/NJ 2025 Annual Meeting
DESCRIPTION:
URL:https://aaspnj.org/event/aasp-nj-2025-annual-meeting/
LOCATION:Gran Centurions\, 440 Madison Hill Rd.\, Clark\, NJ\, 07066\, United States
ORGANIZER;CN="AASP/NJ Admin. Office":MAILTO:aaspnj@gmail.com
END:VEVENT
END:VCALENDAR